BEGIN:VCALENDAR
VERSION:2.0
PRODID:-//Henfield Birdwatch - ECPv6.15.20//NONSGML v1.0//EN
CALSCALE:GREGORIAN
METHOD:PUBLISH
X-WR-CALNAME:Henfield Birdwatch
X-ORIGINAL-URL:https://henfieldbirdwatch.co.uk
X-WR-CALDESC:Events for Henfield Birdwatch
REFRESH-INTERVAL;VALUE=DURATION:PT1H
X-Robots-Tag:noindex
X-PUBLISHED-TTL:PT1H
BEGIN:VTIMEZONE
TZID:Europe/London
BEGIN:DAYLIGHT
TZOFFSETFROM:+0000
TZOFFSETTO:+0100
TZNAME:BST
DTSTART:20250330T010000
END:DAYLIGHT
BEGIN:STANDARD
TZOFFSETFROM:+0100
TZOFFSETTO:+0000
TZNAME:GMT
DTSTART:20251026T010000
END:STANDARD
BEGIN:DAYLIGHT
TZOFFSETFROM:+0000
TZOFFSETTO:+0100
TZNAME:BST
DTSTART:20260329T010000
END:DAYLIGHT
BEGIN:STANDARD
TZOFFSETFROM:+0100
TZOFFSETTO:+0000
TZNAME:GMT
DTSTART:20261025T010000
END:STANDARD
BEGIN:DAYLIGHT
TZOFFSETFROM:+0000
TZOFFSETTO:+0100
TZNAME:BST
DTSTART:20270328T010000
END:DAYLIGHT
BEGIN:STANDARD
TZOFFSETFROM:+0100
TZOFFSETTO:+0000
TZNAME:GMT
DTSTART:20271031T010000
END:STANDARD
END:VTIMEZONE
BEGIN:VEVENT
DTSTART;TZID=Europe/London:20260311T123000
DTEND;TZID=Europe/London:20260311T140000
DTSTAMP:20260423T111923
CREATED:20260303T235647Z
LAST-MODIFIED:20260303T235647Z
UID:1447-1773232200-1773237600@henfieldbirdwatch.co.uk
SUMMARY:Lunch at the Haven
DESCRIPTION:The Haven lunch date has been arranged for Wednesday 11th March at 12.30pm.\n\nContact Debbie if you are interested in meeting up with other fellow Henfield Birdwatch members and socialising with them over lunch.
URL:https://henfieldbirdwatch.co.uk/event/lunch-at-the-haven/
LOCATION:The Haven\, Hewitts\, Henfield\, BN5 9DT\, United Kingdom
CATEGORIES:Lunches
ORGANIZER;CN="Debbie Colgate":MAILTO:debbie.colgate037@btinternet.com
END:VEVENT
END:VCALENDAR